BEGIN:VCALENDAR
VERSION:2.0
PRODID:-//Naturheilverein Schw&auml;bisch Hall - ECPv6.15.20//NONSGML v1.0//EN
CALSCALE:GREGORIAN
METHOD:PUBLISH
X-ORIGINAL-URL:https://naturheilverein-sha.de
X-WR-CALDESC:Veranstaltungen für Naturheilverein Schw&auml;bisch Hall
REFRESH-INTERVAL;VALUE=DURATION:PT1H
X-Robots-Tag:noindex
X-PUBLISHED-TTL:PT1H
BEGIN:VTIMEZONE
TZID:Europe/Berlin
BEGIN:DAYLIGHT
TZOFFSETFROM:+0100
TZOFFSETTO:+0200
TZNAME:CEST
DTSTART:20240331T010000
END:DAYLIGHT
BEGIN:STANDARD
TZOFFSETFROM:+0200
TZOFFSETTO:+0100
TZNAME:CET
DTSTART:20241027T010000
END:STANDARD
BEGIN:DAYLIGHT
TZOFFSETFROM:+0100
TZOFFSETTO:+0200
TZNAME:CEST
DTSTART:20250330T010000
END:DAYLIGHT
BEGIN:STANDARD
TZOFFSETFROM:+0200
TZOFFSETTO:+0100
TZNAME:CET
DTSTART:20251026T010000
END:STANDARD
BEGIN:DAYLIGHT
TZOFFSETFROM:+0100
TZOFFSETTO:+0200
TZNAME:CEST
DTSTART:20260329T010000
END:DAYLIGHT
BEGIN:STANDARD
TZOFFSETFROM:+0200
TZOFFSETTO:+0100
TZNAME:CET
DTSTART:20261025T010000
END:STANDARD
END:VTIMEZONE
BEGIN:VEVENT
DTSTART;TZID=Europe/Berlin:20251018T143000
DTEND;TZID=Europe/Berlin:20251018T180000
DTSTAMP:20260422T020301
CREATED:20250904T155655Z
LAST-MODIFIED:20250905T082310Z
UID:983-1760797800-1760810400@naturheilverein-sha.de
SUMMARY:Lasst Mikroben toben: Die Kunst des Fermentierens
DESCRIPTION:Referentin: Margarete Sprenger\nÄrztlich geprüfte Naturheilkunde-Beraterin DNB \nDer Kurs ist eine Einführung in die spannende Welt des Fermentierens. Die gesundheitlichen Vorteile stehen dabei genauso im Fokus\, wie die praktische Umsetzung. \n \nAnmeldungen und Information über VHS Kurs-Nr. 5294019 \nOrt: inab Küche\, Geschwister-Scholl-Str. 63\, Schwäbisch Hall \nVeranstaltung der VHS SHA
URL:https://naturheilverein-sha.de/event/lasst-mikroben-toben-die-kunst-des-fermentierens/
CATEGORIES:Workshop
ORGANIZER;CN="VHS Schw%C3%A4bisch Hall":MAILTO:info@vhs-sha.de
END:VEVENT
END:VCALENDAR