BEGIN:VCALENDAR
VERSION:2.0
PRODID:-//Naturheilverein Schw&auml;bisch Hall - ECPv6.15.20//NONSGML v1.0//EN
CALSCALE:GREGORIAN
METHOD:PUBLISH
X-WR-CALNAME:Naturheilverein Schw&auml;bisch Hall
X-ORIGINAL-URL:https://naturheilverein-sha.de
X-WR-CALDESC:Veranstaltungen für Naturheilverein Schw&auml;bisch Hall
REFRESH-INTERVAL;VALUE=DURATION:PT1H
X-Robots-Tag:noindex
X-PUBLISHED-TTL:PT1H
BEGIN:VTIMEZONE
TZID:Europe/Berlin
BEGIN:DAYLIGHT
TZOFFSETFROM:+0100
TZOFFSETTO:+0200
TZNAME:CEST
DTSTART:20240331T010000
END:DAYLIGHT
BEGIN:STANDARD
TZOFFSETFROM:+0200
TZOFFSETTO:+0100
TZNAME:CET
DTSTART:20241027T010000
END:STANDARD
BEGIN:DAYLIGHT
TZOFFSETFROM:+0100
TZOFFSETTO:+0200
TZNAME:CEST
DTSTART:20250330T010000
END:DAYLIGHT
BEGIN:STANDARD
TZOFFSETFROM:+0200
TZOFFSETTO:+0100
TZNAME:CET
DTSTART:20251026T010000
END:STANDARD
BEGIN:DAYLIGHT
TZOFFSETFROM:+0100
TZOFFSETTO:+0200
TZNAME:CEST
DTSTART:20260329T010000
END:DAYLIGHT
BEGIN:STANDARD
TZOFFSETFROM:+0200
TZOFFSETTO:+0100
TZNAME:CET
DTSTART:20261025T010000
END:STANDARD
END:VTIMEZONE
BEGIN:VEVENT
DTSTART;TZID=Europe/Berlin:20251113T190000
DTEND;TZID=Europe/Berlin:20251113T210000
DTSTAMP:20260422T002620
CREATED:20250905T164332Z
LAST-MODIFIED:20250905T165136Z
UID:1059-1763060400-1763067600@naturheilverein-sha.de
SUMMARY:Omas Hausmittel altbewährt und neu entdeckt
DESCRIPTION:Referentin: Nicole Schmutz\, Heilpraktikerin \nHusten\, Fieber\, Blasenentzündung und viele Alltags-Leiden – nicht immer sind direkt Medikamente\nerforderlich. Wenn doch\, können diese unterstützt werden!\nGanz praktisch nehmen Sie Ideen\, Rezepte und Anregungen zur Stärkung Ihres Immunsystems sowie\nbei Infekten und vielen anderen Beschwerden mit! Sie werden erstaunt sein\, wie viele dieser hilfreichen\nHausmittel Sie bereits zu Hause haben.\nDer Abend richtet sich an alle Altersgruppen! \nEv. Familienbildung in Kooperation mit VHS und NHV SHA
URL:https://naturheilverein-sha.de/event/omas-hausmittel-altbewaehrt-und-neu-entdeckt/
LOCATION:Brenzhaus\, Mauerstraße 5\, Schwäbisch Hall\, 74523
CATEGORIES:Vortrag
END:VEVENT
END:VCALENDAR