BEGIN:VCALENDAR
VERSION:2.0
PRODID:-//Naturheilverein Schw&auml;bisch Hall - ECPv6.15.20//NONSGML v1.0//EN
CALSCALE:GREGORIAN
METHOD:PUBLISH
X-WR-CALNAME:Naturheilverein Schw&auml;bisch Hall
X-ORIGINAL-URL:https://naturheilverein-sha.de
X-WR-CALDESC:Veranstaltungen für Naturheilverein Schw&auml;bisch Hall
REFRESH-INTERVAL;VALUE=DURATION:PT1H
X-Robots-Tag:noindex
X-PUBLISHED-TTL:PT1H
BEGIN:VTIMEZONE
TZID:Europe/Berlin
BEGIN:DAYLIGHT
TZOFFSETFROM:+0100
TZOFFSETTO:+0200
TZNAME:CEST
DTSTART:20240331T010000
END:DAYLIGHT
BEGIN:STANDARD
TZOFFSETFROM:+0200
TZOFFSETTO:+0100
TZNAME:CET
DTSTART:20241027T010000
END:STANDARD
BEGIN:DAYLIGHT
TZOFFSETFROM:+0100
TZOFFSETTO:+0200
TZNAME:CEST
DTSTART:20250330T010000
END:DAYLIGHT
BEGIN:STANDARD
TZOFFSETFROM:+0200
TZOFFSETTO:+0100
TZNAME:CET
DTSTART:20251026T010000
END:STANDARD
BEGIN:DAYLIGHT
TZOFFSETFROM:+0100
TZOFFSETTO:+0200
TZNAME:CEST
DTSTART:20260329T010000
END:DAYLIGHT
BEGIN:STANDARD
TZOFFSETFROM:+0200
TZOFFSETTO:+0100
TZNAME:CET
DTSTART:20261025T010000
END:STANDARD
END:VTIMEZONE
BEGIN:VEVENT
DTSTART;TZID=Europe/Berlin:20250902T190000
DTEND;TZID=Europe/Berlin:20250902T203000
DTSTAMP:20260422T020121
CREATED:20250717T164233Z
LAST-MODIFIED:20250929T083044Z
UID:244-1756839600-1756845000@naturheilverein-sha.de
SUMMARY:Bewegte Augen sehen klarer - Einfach und entspannt die Sehkraft stärken
DESCRIPTION:Unsere Augen sind das Fenster zur Welt – und doch schenken wir ihnen oft erst Beachtung\, wenn die Sehkraft nachlässt\, sie brennen\, ermüden oder flimmern. Immer mehr Menschen greifen zur Brille\, denn einseitige Sehgewohnheiten – wie ständiges Arbeiten am Bildschirm – belasten unser Sehvermögen und können langfristig zu Problemen führen. Die Versorgung der Augen verschlechtert sich\, die Sehkraft nimmt ab. \nDer Vortrag bietet einen Einblick in das Eyetouch Sehtraining. Finden Sie heraus\, wie Sie mit gezielten Augenübungen zur Entspannung beitragen\, die Augen regenerieren und Sehproblemen vorbeugen. Entdecken Sie das verborgene Potential Ihrer Sehkraft. Erfahren Sie\, wie Sie Ihre Augen im Alltag entlasten und ersten Anzeichen von Seh-Stress-Symptomen wirkungsvoll entgegenwirken können. \n \nPetra Goebel \n  \nDie Veranstaltung war ein voller Erfolg! Wir hatten fast 40 Besucher und wir hatten Angst\, dass  unsere Stühle nicht reichen… \n  \nHerr Klein begrüßte die Anwesenden und dann waren alle gespannt\, auf die Ausführungen von Sehtrainerin Petra Göbel\, die uns mit ihren Ausführungen einen bewussten und achtsamen Umgang mit den Augen und dem Sehsinn vermittelt hat und erklärte\, wie man die Augen vital und leistungsfähig halten kann sowie Stress- und Erschöpfungszuständen vorbeugen kann. \nZu den Tipps für gesundes Sehen zählt u. a. auch\, dass man viel trinkt\, jeden Tag möglichst zwei Stunden im Freien verbringt\, oft gähnt\, um die Augen in Fluß zu bringen und zu beleben! Eine von den durchgeführten Übungen dient der Balance zwischen den beiden Gehirnhälften\,der Lockerung der Schulter- und Nackenmuskulatur und der besseren Durchblutung der visuellen Gehirnzellen: man stellt sich vor\, an der Nasenspitze ist ein Zauberstift befestigt\, der als Nasenverlängerung dient. Nun wird der Stift in der Form der liegenden Acht bewegt und der Kopfbewegt sichentsprechend. \n \nNoch mehr Informationen über YOGA FÜR DIE AUGEN finden Sie unter www.eyetouch-augenschule.de \n  \n 
URL:https://naturheilverein-sha.de/event/bewegte-augen-sehen-klarer-einfach-und-entspannt-die-sehkraft-staerken/
LOCATION:Haus der Vereine\, Am Schuppach 7\, Schwäbisch Hall\, 74523
CATEGORIES:Vortrag
ORGANIZER;CN="Naturheilverein Schw%C3%A4bisch Hall":MAILTO:info@naturheilverein-sha.de
END:VEVENT
BEGIN:VEVENT
DTSTART;TZID=Europe/Berlin:20250915T163000
DTEND;TZID=Europe/Berlin:20250915T173000
DTSTAMP:20260422T020121
CREATED:20250717T170955Z
LAST-MODIFIED:20250807T124902Z
UID:252-1757953800-1757957400@naturheilverein-sha.de
SUMMARY:Zilgrei®Schnupperkurs
DESCRIPTION:Zilgrei® ist eine Methode der Selbstbehandlung bei Verspannungen und Schmerzen im Bewegungsapparat\, die durch einfache Übungen eine tiefe Muskelentspannung und bessere Durchblutung bewirken kann. Das Ziel ist\, Gelenke wieder beweglicher zu machen und Schmerzen zu lindern. Die Übungen können auch bei starken Schmerzen angewandt werden und sind in jedem Alter durchführbar. \nBitte mitbringen: bequeme Kleidung\, warme Socken\, Getränk \n \nChristiane Krauß \nHeilpraktikerin Zilgrei-Therapeutin \n  \nAnmeldungen und Information über VHS \nKurs-Nr. 95018\, Gebühr: 15 €\, \nOrt: Solebad\, Bewegungsraum
URL:https://naturheilverein-sha.de/event/zilgreischnupperkurs/
LOCATION:Solebad\, Bewegungsraum
CATEGORIES:Kurs
ORGANIZER;CN="VHS Schw%C3%A4bisch Hall":MAILTO:info@vhs-sha.de
END:VEVENT
BEGIN:VEVENT
DTSTART;TZID=Europe/Berlin:20250916T190000
DTEND;TZID=Europe/Berlin:20250916T200000
DTSTAMP:20260422T020121
CREATED:20250717T164704Z
LAST-MODIFIED:20250807T121649Z
UID:250-1758049200-1758052800@naturheilverein-sha.de
SUMMARY:Einladung zur Mitgliederversammlung 2025
DESCRIPTION:Tagesordnung \n1. Begrüßung \n2. Feststellung der Beschlussfähigkeit\, Tagesordnung und Anträge\, Genehmigung \n3. Jahresbericht 2024/25 \n4. Bericht Kassenwart\, Kassenprüfungsbericht \n5. Aussprache und Entlastung \n6. Aussprache zur Beitragsentwicklung \n7. Informationen und Aussprache\, wie es im nächsten Jahr weitergehen kann\, denn es stehen im Mai 2026           Vorstandswahlen an \n8. Verschiedenes
URL:https://naturheilverein-sha.de/event/einladung-zur-mitgliederversammlung-2025/
LOCATION:Haus der Vereine\, Am Schuppach 7\, Schwäbisch Hall\, 74523
CATEGORIES:Vereinsleben
ORGANIZER;CN="Naturheilverein Schw%C3%A4bisch Hall":MAILTO:info@naturheilverein-sha.de
END:VEVENT
BEGIN:VEVENT
DTSTART;TZID=Europe/Berlin:20250929T163000
DTEND;TZID=Europe/Berlin:20250929T173000
DTSTAMP:20260422T020121
CREATED:20250824T155126Z
LAST-MODIFIED:20250905T175420Z
UID:980-1759163400-1759167000@naturheilverein-sha.de
SUMMARY:Zilgrei® Nachmittagskurs (8x)
DESCRIPTION:für Menschen\, die bereits mit den Grundlagen vertraut sind\, bzw. für diejenigen\, die schon am 15. und 22. September geschnuppert haben! \nZilgrei® ist eine Methode der Selbstbehandlung bei Verspannungen und Schmerzen im Bewegungsapparat\, die\ndurch einfache Übungen eine tiefe Muskelentspannung und bessere Durchblutung bewirken kann. Das Ziel ist\, Gelenke wieder beweglicher zu machen und Schmerzen zu lindern. Die Übungen können auch bei starken Schmerzen angewandt werden und sind in jedem Alter durchführbar.\nBitte mitbringen: bequeme Kleidung\, warme Socken\, Getränk \n       Referentin: Christiane Krauß\, Heilpraktikerin\, Zilgrei-Therapeutin \nAnmeldungen und Information über VHS-Kurs-Nr. 95019
URL:https://naturheilverein-sha.de/event/zilgrei-nachmittagskurs/
LOCATION:Solebad\, Bewegungsraum
CATEGORIES:Kurs
ORGANIZER;CN="VHS Schw%C3%A4bisch Hall":MAILTO:info@vhs-sha.de
END:VEVENT
END:VCALENDAR